BEGIN:VCALENDAR
VERSION:2.0
PRODID:-//First Congregational Church of Crystal Lake - ECPv6.15.20//NONSGML v1.0//EN
CALSCALE:GREGORIAN
METHOD:PUBLISH
X-ORIGINAL-URL:https://fcc-cl.org
X-WR-CALDESC:Events for First Congregational Church of Crystal Lake
REFRESH-INTERVAL;VALUE=DURATION:PT1H
X-Robots-Tag:noindex
X-PUBLISHED-TTL:PT1H
BEGIN:VTIMEZONE
TZID:America/Chicago
BEGIN:DAYLIGHT
TZOFFSETFROM:-0600
TZOFFSETTO:-0500
TZNAME:CDT
DTSTART:20250309T080000
END:DAYLIGHT
BEGIN:STANDARD
TZOFFSETFROM:-0500
TZOFFSETTO:-0600
TZNAME:CST
DTSTART:20251102T070000
END:STANDARD
BEGIN:DAYLIGHT
TZOFFSETFROM:-0600
TZOFFSETTO:-0500
TZNAME:CDT
DTSTART:20260308T080000
END:DAYLIGHT
BEGIN:STANDARD
TZOFFSETFROM:-0500
TZOFFSETTO:-0600
TZNAME:CST
DTSTART:20261101T070000
END:STANDARD
BEGIN:DAYLIGHT
TZOFFSETFROM:-0600
TZOFFSETTO:-0500
TZNAME:CDT
DTSTART:20270314T080000
END:DAYLIGHT
BEGIN:STANDARD
TZOFFSETFROM:-0500
TZOFFSETTO:-0600
TZNAME:CST
DTSTART:20271107T070000
END:STANDARD
END:VTIMEZONE
BEGIN:VEVENT
DTSTART;TZID=America/Chicago:20260729T090000
DTEND;TZID=America/Chicago:20260729T120000
DTSTAMP:20260423T172952
CREATED:20260225T175646Z
LAST-MODIFIED:20260225T175705Z
UID:12105-1785315600-1785326400@fcc-cl.org
SUMMARY:VBS - Vacation Bible School - July 27 - July 31 - 9am - Noon
DESCRIPTION:VBS – Vacation Bible School – 2026\nSnowball Mountain Challange\nJuly 27 – July 31 from 9:00am to Noon\nVBS is an interactive program. Throughout the day kids will rotate through different stations including crafts\, science\, stories\, games\, music\, and more. Registration is now open! Children from 4yrs. – 5th grade are welcome. Registration fees are $25.00/child. \nAny questions\, please contact Tyler Iscra at tyler@fcc-cl.org.
URL:https://fcc-cl.org/events/vbs-vacation-bible-school-july-27-july-31-9am/
LOCATION:First Congregational Church of Crystal Lake\, IL\, 461 Pierson Street\, Crystal Lake\, IL\, 60014\, United States
CATEGORIES:Annual,Featured
ATTACH;FMTTYPE=image/jpeg:https://fcc-cl.org/wp-content/uploads/2026/02/VBS-2026-Snowball-Mountain-Challenge-with-QR_Web.jpg
ORGANIZER;CN="Tyler Iscra":MAILTO:tyler@fcc-cl.org
END:VEVENT
BEGIN:VEVENT
DTSTART;TZID=America/Chicago:20260729T183000
DTEND;TZID=America/Chicago:20260729T190000
DTSTAMP:20260423T172952
CREATED:20260330T145334Z
LAST-MODIFIED:20260330T145334Z
UID:12338-1785349800-1785351600@fcc-cl.org
SUMMARY:Prayers for Peace
DESCRIPTION:Prayers for Peace\nJoin us Wednesday Evenings\nA simple\, 30-minute midweek gathering in quiet reflection\, scripture\, and prayer for all those impacted by violence and conflict around the world.
URL:https://fcc-cl.org/events/prayers-for-peace-14/
LOCATION:First Congregational Church of Crystal Lake\, IL\, 461 Pierson Street\, Crystal Lake\, IL\, 60014\, United States
CATEGORIES:Featured,Weekly
ATTACH;FMTTYPE=image/png:https://fcc-cl.org/wp-content/uploads/2026/03/Prayers-for-Peace-scaled.png
ORGANIZER;CN="Pastor Eric Fistler":MAILTO:eric@fcc-cl.org
END:VEVENT
END:VCALENDAR