BEGIN:VCALENDAR
VERSION:2.0
PRODID:-//First Congregational Church of Crystal Lake - ECPv6.15.20//NONSGML v1.0//EN
CALSCALE:GREGORIAN
METHOD:PUBLISH
X-WR-CALNAME:First Congregational Church of Crystal Lake
X-ORIGINAL-URL:https://fcc-cl.org
X-WR-CALDESC:Events for First Congregational Church of Crystal Lake
REFRESH-INTERVAL;VALUE=DURATION:PT1H
X-Robots-Tag:noindex
X-PUBLISHED-TTL:PT1H
BEGIN:VTIMEZONE
TZID:America/Chicago
BEGIN:DAYLIGHT
TZOFFSETFROM:-0600
TZOFFSETTO:-0500
TZNAME:CDT
DTSTART:20250309T080000
END:DAYLIGHT
BEGIN:STANDARD
TZOFFSETFROM:-0500
TZOFFSETTO:-0600
TZNAME:CST
DTSTART:20251102T070000
END:STANDARD
BEGIN:DAYLIGHT
TZOFFSETFROM:-0600
TZOFFSETTO:-0500
TZNAME:CDT
DTSTART:20260308T080000
END:DAYLIGHT
BEGIN:STANDARD
TZOFFSETFROM:-0500
TZOFFSETTO:-0600
TZNAME:CST
DTSTART:20261101T070000
END:STANDARD
BEGIN:DAYLIGHT
TZOFFSETFROM:-0600
TZOFFSETTO:-0500
TZNAME:CDT
DTSTART:20270314T080000
END:DAYLIGHT
BEGIN:STANDARD
TZOFFSETFROM:-0500
TZOFFSETTO:-0600
TZNAME:CST
DTSTART:20271107T070000
END:STANDARD
END:VTIMEZONE
BEGIN:VEVENT
DTSTART;TZID=America/Chicago:20260428T120000
DTEND;TZID=America/Chicago:20260428T130000
DTSTAMP:20260423T114331
CREATED:20260330T140644Z
LAST-MODIFIED:20260330T140644Z
UID:12290-1777377600-1777381200@fcc-cl.org
SUMMARY:Community Lunch
DESCRIPTION:Every 2nd and 4th Tuesday each month at 12:00pm – 1:00pm\nBring your lunch\, join us in Shaper Hall\, everyone is welcome!
URL:https://fcc-cl.org/events/community-lunch-2/
LOCATION:First Congregational Church of Crystal Lake\, IL\, 461 Pierson Street\, Crystal Lake\, IL\, 60014\, United States
CATEGORIES:Bi-Monthly,Featured
ATTACH;FMTTYPE=image/jpeg:https://fcc-cl.org/wp-content/uploads/2025/05/FCC-Community-Lunch-2024-2025_V2_Web.jpg
ORGANIZER;CN="Lisa Mason":MAILTO:lisa@fcc-cl.org
END:VEVENT
BEGIN:VEVENT
DTSTART;TZID=America/Chicago:20260512T120000
DTEND;TZID=America/Chicago:20260512T130000
DTSTAMP:20260423T114331
CREATED:20260330T140846Z
LAST-MODIFIED:20260330T140846Z
UID:12291-1778587200-1778590800@fcc-cl.org
SUMMARY:Community Lunch
DESCRIPTION:Every 2nd and 4th Tuesday each month at 12:00pm – 1:00pm\nBring your lunch\, join us in Shaper Hall\, everyone is welcome!
URL:https://fcc-cl.org/events/community-lunch-3/
LOCATION:First Congregational Church of Crystal Lake\, IL\, 461 Pierson Street\, Crystal Lake\, IL\, 60014\, United States
CATEGORIES:Bi-Monthly,Featured
ATTACH;FMTTYPE=image/jpeg:https://fcc-cl.org/wp-content/uploads/2025/05/FCC-Community-Lunch-2024-2025_V2_Web.jpg
ORGANIZER;CN="Lisa Mason":MAILTO:lisa@fcc-cl.org
END:VEVENT
BEGIN:VEVENT
DTSTART;TZID=America/Chicago:20260526T120000
DTEND;TZID=America/Chicago:20260526T130000
DTSTAMP:20260423T114331
CREATED:20260330T140935Z
LAST-MODIFIED:20260330T140935Z
UID:12292-1779796800-1779800400@fcc-cl.org
SUMMARY:Community Lunch
DESCRIPTION:Every 2nd and 4th Tuesday each month at 12:00pm – 1:00pm\nBring your lunch\, join us in Shaper Hall\, everyone is welcome!
URL:https://fcc-cl.org/events/community-lunch-6/
LOCATION:First Congregational Church of Crystal Lake\, IL\, 461 Pierson Street\, Crystal Lake\, IL\, 60014\, United States
CATEGORIES:Bi-Monthly,Featured
ATTACH;FMTTYPE=image/jpeg:https://fcc-cl.org/wp-content/uploads/2025/05/FCC-Community-Lunch-2024-2025_V2_Web.jpg
ORGANIZER;CN="Lisa Mason":MAILTO:lisa@fcc-cl.org
END:VEVENT
BEGIN:VEVENT
DTSTART;TZID=America/Chicago:20260609T120000
DTEND;TZID=America/Chicago:20260609T130000
DTSTAMP:20260423T114331
CREATED:20260330T141110Z
LAST-MODIFIED:20260330T141110Z
UID:12293-1781006400-1781010000@fcc-cl.org
SUMMARY:Community Lunch
DESCRIPTION:Every 2nd and 4th Tuesday each month at 12:00pm – 1:00pm\nBring your lunch\, join us in Shaper Hall\, everyone is welcome!
URL:https://fcc-cl.org/events/community-lunch-7/
LOCATION:First Congregational Church of Crystal Lake\, IL\, 461 Pierson Street\, Crystal Lake\, IL\, 60014\, United States
CATEGORIES:Bi-Monthly,Featured
ATTACH;FMTTYPE=image/jpeg:https://fcc-cl.org/wp-content/uploads/2025/05/FCC-Community-Lunch-2024-2025_V2_Web.jpg
ORGANIZER;CN="Lisa Mason":MAILTO:lisa@fcc-cl.org
END:VEVENT
BEGIN:VEVENT
DTSTART;TZID=America/Chicago:20260623T120000
DTEND;TZID=America/Chicago:20260623T130000
DTSTAMP:20260423T114331
CREATED:20260330T141210Z
LAST-MODIFIED:20260330T141210Z
UID:12294-1782216000-1782219600@fcc-cl.org
SUMMARY:Community Lunch
DESCRIPTION:Every 2nd and 4th Tuesday each month at 12:00pm – 1:00pm\nBring your lunch\, join us in Shaper Hall\, everyone is welcome!
URL:https://fcc-cl.org/events/community-lunch-8/
LOCATION:First Congregational Church of Crystal Lake\, IL\, 461 Pierson Street\, Crystal Lake\, IL\, 60014\, United States
CATEGORIES:Bi-Monthly,Featured
ATTACH;FMTTYPE=image/jpeg:https://fcc-cl.org/wp-content/uploads/2025/05/FCC-Community-Lunch-2024-2025_V2_Web.jpg
ORGANIZER;CN="Lisa Mason":MAILTO:lisa@fcc-cl.org
END:VEVENT
BEGIN:VEVENT
DTSTART;TZID=America/Chicago:20260714T120000
DTEND;TZID=America/Chicago:20260714T130000
DTSTAMP:20260423T114331
CREATED:20260330T141345Z
LAST-MODIFIED:20260330T141345Z
UID:12295-1784030400-1784034000@fcc-cl.org
SUMMARY:Community Lunch
DESCRIPTION:Every 2nd and 4th Tuesday each month at 12:00pm – 1:00pm\nBring your lunch\, join us in Shaper Hall\, everyone is welcome!
URL:https://fcc-cl.org/events/community-lunch-9/
LOCATION:First Congregational Church of Crystal Lake\, IL\, 461 Pierson Street\, Crystal Lake\, IL\, 60014\, United States
CATEGORIES:Bi-Monthly,Featured
ATTACH;FMTTYPE=image/jpeg:https://fcc-cl.org/wp-content/uploads/2025/05/FCC-Community-Lunch-2024-2025_V2_Web.jpg
ORGANIZER;CN="Lisa Mason":MAILTO:lisa@fcc-cl.org
END:VEVENT
BEGIN:VEVENT
DTSTART;TZID=America/Chicago:20260728T120000
DTEND;TZID=America/Chicago:20260728T130000
DTSTAMP:20260423T114331
CREATED:20260330T141445Z
LAST-MODIFIED:20260330T141445Z
UID:12296-1785240000-1785243600@fcc-cl.org
SUMMARY:Community Lunch
DESCRIPTION:Every 2nd and 4th Tuesday each month at 12:00pm – 1:00pm\nBring your lunch\, join us in Shaper Hall\, everyone is welcome!
URL:https://fcc-cl.org/events/community-lunch-10/
LOCATION:First Congregational Church of Crystal Lake\, IL\, 461 Pierson Street\, Crystal Lake\, IL\, 60014\, United States
CATEGORIES:Bi-Monthly,Featured
ATTACH;FMTTYPE=image/jpeg:https://fcc-cl.org/wp-content/uploads/2025/05/FCC-Community-Lunch-2024-2025_V2_Web.jpg
ORGANIZER;CN="Lisa Mason":MAILTO:lisa@fcc-cl.org
END:VEVENT
BEGIN:VEVENT
DTSTART;TZID=America/Chicago:20260811T120000
DTEND;TZID=America/Chicago:20260811T130000
DTSTAMP:20260423T114331
CREATED:20260330T141534Z
LAST-MODIFIED:20260330T141534Z
UID:12297-1786449600-1786453200@fcc-cl.org
SUMMARY:Community Lunch
DESCRIPTION:Every 2nd and 4th Tuesday each month at 12:00pm – 1:00pm\nBring your lunch\, join us in Shaper Hall\, everyone is welcome!
URL:https://fcc-cl.org/events/community-lunch-11/
LOCATION:First Congregational Church of Crystal Lake\, IL\, 461 Pierson Street\, Crystal Lake\, IL\, 60014\, United States
CATEGORIES:Bi-Monthly,Featured
ATTACH;FMTTYPE=image/jpeg:https://fcc-cl.org/wp-content/uploads/2025/05/FCC-Community-Lunch-2024-2025_V2_Web.jpg
ORGANIZER;CN="Lisa Mason":MAILTO:lisa@fcc-cl.org
END:VEVENT
BEGIN:VEVENT
DTSTART;TZID=America/Chicago:20260825T120000
DTEND;TZID=America/Chicago:20260825T130000
DTSTAMP:20260423T114331
CREATED:20260330T141647Z
LAST-MODIFIED:20260330T141647Z
UID:12298-1787659200-1787662800@fcc-cl.org
SUMMARY:Community Lunch
DESCRIPTION:Every 2nd and 4th Tuesday each month at 12:00pm – 1:00pm\nBring your lunch\, join us in Shaper Hall\, everyone is welcome!
URL:https://fcc-cl.org/events/community-lunch-12/
LOCATION:First Congregational Church of Crystal Lake\, IL\, 461 Pierson Street\, Crystal Lake\, IL\, 60014\, United States
CATEGORIES:Bi-Monthly,Featured
ATTACH;FMTTYPE=image/jpeg:https://fcc-cl.org/wp-content/uploads/2025/05/FCC-Community-Lunch-2024-2025_V2_Web.jpg
ORGANIZER;CN="Lisa Mason":MAILTO:lisa@fcc-cl.org
END:VEVENT
END:VCALENDAR