BEGIN:VCALENDAR
VERSION:2.0
PRODID:-//First Congregational Church of Crystal Lake - ECPv6.15.20//NONSGML v1.0//EN
CALSCALE:GREGORIAN
METHOD:PUBLISH
X-WR-CALNAME:First Congregational Church of Crystal Lake
X-ORIGINAL-URL:https://fcc-cl.org
X-WR-CALDESC:Events for First Congregational Church of Crystal Lake
REFRESH-INTERVAL;VALUE=DURATION:PT1H
X-Robots-Tag:noindex
X-PUBLISHED-TTL:PT1H
BEGIN:VTIMEZONE
TZID:America/Chicago
BEGIN:DAYLIGHT
TZOFFSETFROM:-0600
TZOFFSETTO:-0500
TZNAME:CDT
DTSTART:20250309T080000
END:DAYLIGHT
BEGIN:STANDARD
TZOFFSETFROM:-0500
TZOFFSETTO:-0600
TZNAME:CST
DTSTART:20251102T070000
END:STANDARD
BEGIN:DAYLIGHT
TZOFFSETFROM:-0600
TZOFFSETTO:-0500
TZNAME:CDT
DTSTART:20260308T080000
END:DAYLIGHT
BEGIN:STANDARD
TZOFFSETFROM:-0500
TZOFFSETTO:-0600
TZNAME:CST
DTSTART:20261101T070000
END:STANDARD
BEGIN:DAYLIGHT
TZOFFSETFROM:-0600
TZOFFSETTO:-0500
TZNAME:CDT
DTSTART:20270314T080000
END:DAYLIGHT
BEGIN:STANDARD
TZOFFSETFROM:-0500
TZOFFSETTO:-0600
TZNAME:CST
DTSTART:20271107T070000
END:STANDARD
END:VTIMEZONE
BEGIN:VEVENT
DTSTART;TZID=America/Chicago:20260507T120000
DTEND;TZID=America/Chicago:20260507T140000
DTSTAMP:20260423T112848
CREATED:20260416T135757Z
LAST-MODIFIED:20260416T140209Z
UID:12516-1778155200-1778162400@fcc-cl.org
SUMMARY:Women's Fellowship Luncheon - 5/7/2026 at 12PM
DESCRIPTION:Program: Jody Fields and Randy Leggee singing “Favorite Old Hymns”\nLunch: Pot Luck Salad Lunch\nAnyone is welcome to join us or food\, fellowship and music. Members with last names from M-Z are asked to bring a salad. \nOur gathering will be downstairs in the Children’s Worship Center \nPlease sign up on Realm or on the sign-up sheet in Shaper Hall by Tuesday or call the Church Office at 815-219-4628.
URL:https://fcc-cl.org/events/womens-fellowship-luncheon-5-7-2026-at-12pm/
LOCATION:First Congregational Church of Crystal Lake\, IL\, 461 Pierson Street\, Crystal Lake\, IL\, 60014\, United States
CATEGORIES:Featured,Monthly
ATTACH;FMTTYPE=image/jpeg:https://fcc-cl.org/wp-content/uploads/2026/04/FCC-Womens-Fellowship-5-7-2026_Web.jpg
ORGANIZER;CN="Carin Trotter":MAILTO:carintrotter@gmail.com
END:VEVENT
BEGIN:VEVENT
DTSTART;TZID=America/Chicago:20260512T130000
DTEND;TZID=America/Chicago:20260512T140000
DTSTAMP:20260423T112848
CREATED:20260330T142540Z
LAST-MODIFIED:20260330T142540Z
UID:12319-1778590800-1778594400@fcc-cl.org
SUMMARY:Young at Heart - Game Day
DESCRIPTION:Young At Heart Game Day\nEvery 2nd Tuesday of the month following \nCommunity Lunch in Schaper Hall
URL:https://fcc-cl.org/events/young-at-heart-game-day-2/
LOCATION:First Congregational Church of Crystal Lake\, IL\, 461 Pierson Street\, Crystal Lake\, IL\, 60014\, United States
CATEGORIES:Featured,Monthly
ATTACH;FMTTYPE=image/jpeg:https://fcc-cl.org/wp-content/uploads/2026/03/FCC-Young-at-Heart-Young-at-Heart-Game-Day_Update_Web.jpg
END:VEVENT
BEGIN:VEVENT
DTSTART;TZID=America/Chicago:20260609T130000
DTEND;TZID=America/Chicago:20260609T140000
DTSTAMP:20260423T112848
CREATED:20260330T142756Z
LAST-MODIFIED:20260330T142756Z
UID:12320-1781010000-1781013600@fcc-cl.org
SUMMARY:Young at Heart - Game Day
DESCRIPTION:Young At Heart Game Day\nEvery 2nd Tuesday of the month following \nCommunity Lunch in Schaper Hall
URL:https://fcc-cl.org/events/young-at-heart-game-day-3/
LOCATION:First Congregational Church of Crystal Lake\, IL\, 461 Pierson Street\, Crystal Lake\, IL\, 60014\, United States
CATEGORIES:Featured,Monthly
ATTACH;FMTTYPE=image/jpeg:https://fcc-cl.org/wp-content/uploads/2026/03/FCC-Young-at-Heart-Young-at-Heart-Game-Day_Update_Web.jpg
END:VEVENT
BEGIN:VEVENT
DTSTART;TZID=America/Chicago:20260714T130000
DTEND;TZID=America/Chicago:20260714T140000
DTSTAMP:20260423T112848
CREATED:20260330T142850Z
LAST-MODIFIED:20260330T142850Z
UID:12321-1784034000-1784037600@fcc-cl.org
SUMMARY:Young at Heart - Game Day
DESCRIPTION:Young At Heart Game Day\nEvery 2nd Tuesday of the month following \nCommunity Lunch in Schaper Hall
URL:https://fcc-cl.org/events/young-at-heart-game-day-4/
LOCATION:First Congregational Church of Crystal Lake\, IL\, 461 Pierson Street\, Crystal Lake\, IL\, 60014\, United States
CATEGORIES:Featured,Monthly
ATTACH;FMTTYPE=image/jpeg:https://fcc-cl.org/wp-content/uploads/2026/03/FCC-Young-at-Heart-Young-at-Heart-Game-Day_Update_Web.jpg
END:VEVENT
BEGIN:VEVENT
DTSTART;TZID=America/Chicago:20260811T130000
DTEND;TZID=America/Chicago:20260811T140000
DTSTAMP:20260423T112848
CREATED:20260330T142931Z
LAST-MODIFIED:20260330T142931Z
UID:12322-1786453200-1786456800@fcc-cl.org
SUMMARY:Young at Heart - Game Day
DESCRIPTION:Young At Heart Game Day\nEvery 2nd Tuesday of the month following \nCommunity Lunch in Schaper Hall
URL:https://fcc-cl.org/events/young-at-heart-game-day-5/
LOCATION:First Congregational Church of Crystal Lake\, IL\, 461 Pierson Street\, Crystal Lake\, IL\, 60014\, United States
CATEGORIES:Featured,Monthly
ATTACH;FMTTYPE=image/jpeg:https://fcc-cl.org/wp-content/uploads/2026/03/FCC-Young-at-Heart-Young-at-Heart-Game-Day_Update_Web.jpg
END:VEVENT
END:VCALENDAR