BEGIN:VCALENDAR
VERSION:2.0
PRODID:-//First Congregational Church of Crystal Lake - ECPv6.15.20//NONSGML v1.0//EN
CALSCALE:GREGORIAN
METHOD:PUBLISH
X-ORIGINAL-URL:https://fcc-cl.org
X-WR-CALDESC:Events for First Congregational Church of Crystal Lake
REFRESH-INTERVAL;VALUE=DURATION:PT1H
X-Robots-Tag:noindex
X-PUBLISHED-TTL:PT1H
BEGIN:VTIMEZONE
TZID:America/Chicago
BEGIN:DAYLIGHT
TZOFFSETFROM:-0600
TZOFFSETTO:-0500
TZNAME:CDT
DTSTART:20250309T080000
END:DAYLIGHT
BEGIN:STANDARD
TZOFFSETFROM:-0500
TZOFFSETTO:-0600
TZNAME:CST
DTSTART:20251102T070000
END:STANDARD
BEGIN:DAYLIGHT
TZOFFSETFROM:-0600
TZOFFSETTO:-0500
TZNAME:CDT
DTSTART:20260308T080000
END:DAYLIGHT
BEGIN:STANDARD
TZOFFSETFROM:-0500
TZOFFSETTO:-0600
TZNAME:CST
DTSTART:20261101T070000
END:STANDARD
BEGIN:DAYLIGHT
TZOFFSETFROM:-0600
TZOFFSETTO:-0500
TZNAME:CDT
DTSTART:20270314T080000
END:DAYLIGHT
BEGIN:STANDARD
TZOFFSETFROM:-0500
TZOFFSETTO:-0600
TZNAME:CST
DTSTART:20271107T070000
END:STANDARD
END:VTIMEZONE
BEGIN:VEVENT
DTSTART;TZID=America/Chicago:20260428T120000
DTEND;TZID=America/Chicago:20260428T130000
DTSTAMP:20260423T170415
CREATED:20260330T140644Z
LAST-MODIFIED:20260330T140644Z
UID:12290-1777377600-1777381200@fcc-cl.org
SUMMARY:Community Lunch
DESCRIPTION:Every 2nd and 4th Tuesday each month at 12:00pm – 1:00pm\nBring your lunch\, join us in Shaper Hall\, everyone is welcome!
URL:https://fcc-cl.org/events/community-lunch-2/
LOCATION:First Congregational Church of Crystal Lake\, IL\, 461 Pierson Street\, Crystal Lake\, IL\, 60014\, United States
CATEGORIES:Bi-Monthly,Featured
ATTACH;FMTTYPE=image/jpeg:https://fcc-cl.org/wp-content/uploads/2025/05/FCC-Community-Lunch-2024-2025_V2_Web.jpg
ORGANIZER;CN="Lisa Mason":MAILTO:lisa@fcc-cl.org
END:VEVENT
BEGIN:VEVENT
DTSTART;TZID=America/Chicago:20260429T083000
DTEND;TZID=America/Chicago:20260429T093000
DTSTAMP:20260423T170415
CREATED:20260330T162410Z
LAST-MODIFIED:20260330T162410Z
UID:12431-1777451400-1777455000@fcc-cl.org
SUMMARY:FCC - Yoga
DESCRIPTION:FCC Yoga\nWednesdays 8:30AM – 9:30AM\nIf you have any questions\, please contact: \nDeb Rosulek \nPhone: (815) 354-2309 \ne-mail: debrosulek@yahoo.com
URL:https://fcc-cl.org/events/fcc-yoga-5/
LOCATION:First Congregational Church of Crystal Lake\, IL\, 461 Pierson Street\, Crystal Lake\, IL\, 60014\, United States
CATEGORIES:Weekly
ATTACH;FMTTYPE=image/jpeg:https://fcc-cl.org/wp-content/uploads/2025/09/FCC-YOGA-2025-26_Web.jpg
ORGANIZER;CN="Lisa Mason":MAILTO:lisa@fcc-cl.org
END:VEVENT
BEGIN:VEVENT
DTSTART;TZID=America/Chicago:20260429T183000
DTEND;TZID=America/Chicago:20260429T190000
DTSTAMP:20260423T170415
CREATED:20260319T141006Z
LAST-MODIFIED:20260319T141006Z
UID:12203-1777487400-1777489200@fcc-cl.org
SUMMARY:Prayers for Peace - 4/29/2026
DESCRIPTION:Prayers for Peace\nJoin us Wednesday Evenings\nA simple\, 30-minute midweek gathering in quiet reflection\, scripture\, and prayer for all those impacted by violence and conflict around the world.
URL:https://fcc-cl.org/events/prayers-for-peace-4-29-2026/
LOCATION:First Congregational Church of Crystal Lake\, IL\, 461 Pierson Street\, Crystal Lake\, IL\, 60014\, United States
CATEGORIES:Featured,Weekly
ATTACH;FMTTYPE=image/png:https://fcc-cl.org/wp-content/uploads/2026/03/Prayers-for-Peace-scaled.png
ORGANIZER;CN="Pastor Eric Fistler":MAILTO:eric@fcc-cl.org
END:VEVENT
BEGIN:VEVENT
DTSTART;TZID=America/Chicago:20260503T100000
DTEND;TZID=America/Chicago:20260503T113000
DTSTAMP:20260423T170415
CREATED:20260330T153353Z
LAST-MODIFIED:20260407T142342Z
UID:12390-1777802400-1777807800@fcc-cl.org
SUMMARY:Worship Service - 5/3/2026 at 10AM
DESCRIPTION:Join us every Sunday in person or Watch LIVE online @ 10am\nSermon: TBD\nTitle: TBD\nScripture: TBD
URL:https://fcc-cl.org/events/worship-service-5-3-2026-at-10am/
LOCATION:First Congregational Church of Crystal Lake\, IL\, 461 Pierson Street\, Crystal Lake\, IL\, 60014\, United States
CATEGORIES:Featured,Weekly
ATTACH;FMTTYPE=image/jpeg:https://fcc-cl.org/wp-content/uploads/2026/03/Worship-Graphic-5-3-2026_updated_Web.jpg
ORGANIZER;CN="Pastor Eric Fistler":MAILTO:eric@fcc-cl.org
END:VEVENT
BEGIN:VEVENT
DTSTART;TZID=America/Chicago:20260503T111500
DTEND;TZID=America/Chicago:20260503T121500
DTSTAMP:20260423T170415
CREATED:20260330T160533Z
LAST-MODIFIED:20260330T160556Z
UID:12406-1777806900-1777810500@fcc-cl.org
SUMMARY:Sunday Morning Adult Discussion Group
DESCRIPTION:Join us for the\nSunday Morning Adult Discussion Group\nSundays after Worship at 11:15AM\nin the Library
URL:https://fcc-cl.org/events/sunday-morning-adult-discussion-group-4/
LOCATION:First Congregational Church of Crystal Lake\, IL\, 461 Pierson Street\, Crystal Lake\, IL\, 60014\, United States
CATEGORIES:Featured,Weekly
ATTACH;FMTTYPE=image/jpeg:https://fcc-cl.org/wp-content/uploads/2025/09/FCC-Sunday-Morning-Adult-Discussion-Group-Marble-Background_Web.jpg
ORGANIZER;CN="Mike Chakoian":MAILTO:mike@chakoian.com
END:VEVENT
BEGIN:VEVENT
DTSTART;TZID=America/Chicago:20260506T083000
DTEND;TZID=America/Chicago:20260506T093000
DTSTAMP:20260423T170415
CREATED:20260330T162710Z
LAST-MODIFIED:20260330T162710Z
UID:12434-1778056200-1778059800@fcc-cl.org
SUMMARY:FCC - Yoga
DESCRIPTION:FCC Yoga\nWednesdays 8:30AM – 9:30AM\nIf you have any questions\, please contact: \nDeb Rosulek \nPhone: (815) 354-2309 \ne-mail: debrosulek@yahoo.com
URL:https://fcc-cl.org/events/fcc-yoga-6/
LOCATION:First Congregational Church of Crystal Lake\, IL\, 461 Pierson Street\, Crystal Lake\, IL\, 60014\, United States
CATEGORIES:Weekly
ATTACH;FMTTYPE=image/jpeg:https://fcc-cl.org/wp-content/uploads/2025/09/FCC-YOGA-2025-26_Web.jpg
ORGANIZER;CN="Lisa Mason":MAILTO:lisa@fcc-cl.org
END:VEVENT
BEGIN:VEVENT
DTSTART;TZID=America/Chicago:20260506T183000
DTEND;TZID=America/Chicago:20260506T190000
DTSTAMP:20260423T170415
CREATED:20260330T143435Z
LAST-MODIFIED:20260330T143435Z
UID:12205-1778092200-1778094000@fcc-cl.org
SUMMARY:Prayers for Peace
DESCRIPTION:Prayers for Peace\nJoin us Wednesday Evenings\nA simple\, 30-minute midweek gathering in quiet reflection\, scripture\, and prayer for all those impacted by violence and conflict around the world.
URL:https://fcc-cl.org/events/prayers-for-peace-2/
LOCATION:First Congregational Church of Crystal Lake\, IL\, 461 Pierson Street\, Crystal Lake\, IL\, 60014\, United States
CATEGORIES:Featured,Weekly
ATTACH;FMTTYPE=image/png:https://fcc-cl.org/wp-content/uploads/2026/03/Prayers-for-Peace-scaled.png
ORGANIZER;CN="Pastor Eric Fistler":MAILTO:eric@fcc-cl.org
END:VEVENT
BEGIN:VEVENT
DTSTART;TZID=America/Chicago:20260507T120000
DTEND;TZID=America/Chicago:20260507T140000
DTSTAMP:20260423T170415
CREATED:20260416T135757Z
LAST-MODIFIED:20260416T140209Z
UID:12516-1778155200-1778162400@fcc-cl.org
SUMMARY:Women's Fellowship Luncheon - 5/7/2026 at 12PM
DESCRIPTION:Program: Jody Fields and Randy Leggee singing “Favorite Old Hymns”\nLunch: Pot Luck Salad Lunch\nAnyone is welcome to join us or food\, fellowship and music. Members with last names from M-Z are asked to bring a salad. \nOur gathering will be downstairs in the Children’s Worship Center \nPlease sign up on Realm or on the sign-up sheet in Shaper Hall by Tuesday or call the Church Office at 815-219-4628.
URL:https://fcc-cl.org/events/womens-fellowship-luncheon-5-7-2026-at-12pm/
LOCATION:First Congregational Church of Crystal Lake\, IL\, 461 Pierson Street\, Crystal Lake\, IL\, 60014\, United States
CATEGORIES:Featured,Monthly
ATTACH;FMTTYPE=image/jpeg:https://fcc-cl.org/wp-content/uploads/2026/04/FCC-Womens-Fellowship-5-7-2026_Web.jpg
ORGANIZER;CN="Carin Trotter":MAILTO:carintrotter@gmail.com
END:VEVENT
BEGIN:VEVENT
DTSTART;TZID=America/Chicago:20260509T190000
DTEND;TZID=America/Chicago:20260509T210000
DTSTAMP:20260423T170415
CREATED:20260225T173209Z
LAST-MODIFIED:20260323T180339Z
UID:12070-1778353200-1778360400@fcc-cl.org
SUMMARY:Trivia Night - 5/9/2026 at 7pm
DESCRIPTION:Trivia Night\nDo you like Trivia? Do you want to have fun? \nThen this event is for you! Join us for a fun night of Trivia hosted by the Youth Ministry. You can still participate in the fun even if trivia is not your thing. \nDessert Drive\, Wine Pull\, 50/50 Raffle \n$20.00/person or $120.00 for a table of 8 \n 
URL:https://fcc-cl.org/events/trivia-night-5-9-2026-at-7pm/
LOCATION:First Congregational Church of Crystal Lake\, IL\, 461 Pierson Street\, Crystal Lake\, IL\, 60014\, United States
CATEGORIES:Annual,Featured
ATTACH;FMTTYPE=image/jpeg:https://fcc-cl.org/wp-content/uploads/2026/02/Trivia-Night-2026_Updated.jpg
ORGANIZER;CN="Tyler Iscra":MAILTO:tyler@fcc-cl.org
END:VEVENT
BEGIN:VEVENT
DTSTART;TZID=America/Chicago:20260510T100000
DTEND;TZID=America/Chicago:20260510T113000
DTSTAMP:20260423T170415
CREATED:20260330T153520Z
LAST-MODIFIED:20260407T142441Z
UID:12391-1778407200-1778412600@fcc-cl.org
SUMMARY:Worship Service - 5/10/2026 at 10AM
DESCRIPTION:Join us every Sunday in person or Watch LIVE online @ 10am\nSermon: TBD\nTitle: TBD\nScripture: TBD
URL:https://fcc-cl.org/events/worship-service-5-10-2026-at-10am/
LOCATION:First Congregational Church of Crystal Lake\, IL\, 461 Pierson Street\, Crystal Lake\, IL\, 60014\, United States
CATEGORIES:Featured,Weekly
ATTACH;FMTTYPE=image/jpeg:https://fcc-cl.org/wp-content/uploads/2026/03/Worship-Graphic-5-10-2026_updated_Web.jpg
ORGANIZER;CN="Pastor Eric Fistler":MAILTO:eric@fcc-cl.org
END:VEVENT
BEGIN:VEVENT
DTSTART;TZID=America/Chicago:20260510T111500
DTEND;TZID=America/Chicago:20260510T121500
DTSTAMP:20260423T170415
CREATED:20260330T160630Z
LAST-MODIFIED:20260330T160630Z
UID:12407-1778411700-1778415300@fcc-cl.org
SUMMARY:Sunday Morning Adult Discussion Group
DESCRIPTION:Join us for the\nSunday Morning Adult Discussion Group\nSundays after Worship at 11:15AM\nin the Library
URL:https://fcc-cl.org/events/sunday-morning-adult-discussion-group-5/
LOCATION:First Congregational Church of Crystal Lake\, IL\, 461 Pierson Street\, Crystal Lake\, IL\, 60014\, United States
CATEGORIES:Featured,Weekly
ATTACH;FMTTYPE=image/jpeg:https://fcc-cl.org/wp-content/uploads/2025/09/FCC-Sunday-Morning-Adult-Discussion-Group-Marble-Background_Web.jpg
ORGANIZER;CN="Mike Chakoian":MAILTO:mike@chakoian.com
END:VEVENT
BEGIN:VEVENT
DTSTART;TZID=America/Chicago:20260512T120000
DTEND;TZID=America/Chicago:20260512T130000
DTSTAMP:20260423T170415
CREATED:20260330T140846Z
LAST-MODIFIED:20260330T140846Z
UID:12291-1778587200-1778590800@fcc-cl.org
SUMMARY:Community Lunch
DESCRIPTION:Every 2nd and 4th Tuesday each month at 12:00pm – 1:00pm\nBring your lunch\, join us in Shaper Hall\, everyone is welcome!
URL:https://fcc-cl.org/events/community-lunch-3/
LOCATION:First Congregational Church of Crystal Lake\, IL\, 461 Pierson Street\, Crystal Lake\, IL\, 60014\, United States
CATEGORIES:Bi-Monthly,Featured
ATTACH;FMTTYPE=image/jpeg:https://fcc-cl.org/wp-content/uploads/2025/05/FCC-Community-Lunch-2024-2025_V2_Web.jpg
ORGANIZER;CN="Lisa Mason":MAILTO:lisa@fcc-cl.org
END:VEVENT
BEGIN:VEVENT
DTSTART;TZID=America/Chicago:20260512T130000
DTEND;TZID=America/Chicago:20260512T140000
DTSTAMP:20260423T170415
CREATED:20260330T142540Z
LAST-MODIFIED:20260330T142540Z
UID:12319-1778590800-1778594400@fcc-cl.org
SUMMARY:Young at Heart - Game Day
DESCRIPTION:Young At Heart Game Day\nEvery 2nd Tuesday of the month following \nCommunity Lunch in Schaper Hall
URL:https://fcc-cl.org/events/young-at-heart-game-day-2/
LOCATION:First Congregational Church of Crystal Lake\, IL\, 461 Pierson Street\, Crystal Lake\, IL\, 60014\, United States
CATEGORIES:Featured,Monthly
ATTACH;FMTTYPE=image/jpeg:https://fcc-cl.org/wp-content/uploads/2026/03/FCC-Young-at-Heart-Young-at-Heart-Game-Day_Update_Web.jpg
END:VEVENT
BEGIN:VEVENT
DTSTART;TZID=America/Chicago:20260513T083000
DTEND;TZID=America/Chicago:20260513T093000
DTSTAMP:20260423T170415
CREATED:20260330T162752Z
LAST-MODIFIED:20260330T162752Z
UID:12435-1778661000-1778664600@fcc-cl.org
SUMMARY:FCC - Yoga
DESCRIPTION:FCC Yoga\nWednesdays 8:30AM – 9:30AM\nIf you have any questions\, please contact: \nDeb Rosulek \nPhone: (815) 354-2309 \ne-mail: debrosulek@yahoo.com
URL:https://fcc-cl.org/events/fcc-yoga-10/
LOCATION:First Congregational Church of Crystal Lake\, IL\, 461 Pierson Street\, Crystal Lake\, IL\, 60014\, United States
CATEGORIES:Weekly
ATTACH;FMTTYPE=image/jpeg:https://fcc-cl.org/wp-content/uploads/2025/09/FCC-YOGA-2025-26_Web.jpg
ORGANIZER;CN="Lisa Mason":MAILTO:lisa@fcc-cl.org
END:VEVENT
BEGIN:VEVENT
DTSTART;TZID=America/Chicago:20260513T183000
DTEND;TZID=America/Chicago:20260513T190000
DTSTAMP:20260423T170415
CREATED:20260330T143534Z
LAST-MODIFIED:20260330T143534Z
UID:12327-1778697000-1778698800@fcc-cl.org
SUMMARY:Prayers for Peace
DESCRIPTION:Prayers for Peace\nJoin us Wednesday Evenings\nA simple\, 30-minute midweek gathering in quiet reflection\, scripture\, and prayer for all those impacted by violence and conflict around the world.
URL:https://fcc-cl.org/events/prayers-for-peace-3/
LOCATION:First Congregational Church of Crystal Lake\, IL\, 461 Pierson Street\, Crystal Lake\, IL\, 60014\, United States
CATEGORIES:Featured,Weekly
ATTACH;FMTTYPE=image/png:https://fcc-cl.org/wp-content/uploads/2026/03/Prayers-for-Peace-scaled.png
ORGANIZER;CN="Pastor Eric Fistler":MAILTO:eric@fcc-cl.org
END:VEVENT
BEGIN:VEVENT
DTSTART;TZID=America/Chicago:20260515T060000
DTEND;TZID=America/Chicago:20260515T180000
DTSTAMP:20260423T170415
CREATED:20260225T181329Z
LAST-MODIFIED:20260225T181329Z
UID:12113-1778824800-1778868000@fcc-cl.org
SUMMARY:Women's Retreat - Friday\, May 15 - Sunday\, May 17
DESCRIPTION:Women’s Retreat\nFriday\, May 15 – Sunday\, May 17\nIt’s a girls’ trip! Join us for a weekend of FELLOWSHIP and FUN at Cedar Valley Retreat Center in West Bend\, WI. \nJust a short drive north from the metro Milwaukee area\, Cedar Valley is surrounded by 100 acres of pastoral beauty. On site\, you’ll have access to hiking trails\, a zen garden\, labyrinth\, small pond\, fire pit\, and gazebo. Go exploring to enjoy more natural beauty at the Kettle Moraine State Forest\, take a trip to the Museum of Wisconsin Art\, or spend a day in downtown West Bend or nearby Cedarburg. \n$300 Single Occupancy \n$270 Double Occupancy \nPrice includes rooms with linens and private bathrooms\, full use of the retreat center grounds\, all on-site activities\, and 4 shared meals (Friday dinner – Sunday breakfast\, with Saturday’s lunch out). Full and partial scholarships available.
URL:https://fcc-cl.org/events/womens-retreat-friday-may-15-sunday-may-17/
LOCATION:First Congregational Church of Crystal Lake\, IL\, 461 Pierson Street\, Crystal Lake\, IL\, 60014\, United States
CATEGORIES:Annual,Featured
ATTACH;FMTTYPE=image/jpeg:https://fcc-cl.org/wp-content/uploads/2026/02/Womens-Retreat-2026-with-QR_Web.jpg
ORGANIZER;CN="Pastor Emily Davis":MAILTO:emily@fcc-cl.org
END:VEVENT
BEGIN:VEVENT
DTSTART;TZID=America/Chicago:20260516T060000
DTEND;TZID=America/Chicago:20260516T180000
DTSTAMP:20260423T170415
CREATED:20260225T181506Z
LAST-MODIFIED:20260225T181506Z
UID:12120-1778911200-1778954400@fcc-cl.org
SUMMARY:Women's Retreat - Friday\, May 15 - Sunday\, May 17
DESCRIPTION:Women’s Retreat\nFriday\, May 15 – Sunday\, May 17\nIt’s a girls’ trip! Join us for a weekend of FELLOWSHIP and FUN at Cedar Valley Retreat Center in West Bend\, WI. \nJust a short drive north from the metro Milwaukee area\, Cedar Valley is surrounded by 100 acres of pastoral beauty. On site\, you’ll have access to hiking trails\, a zen garden\, labyrinth\, small pond\, fire pit\, and gazebo. Go exploring to enjoy more natural beauty at the Kettle Moraine State Forest\, take a trip to the Museum of Wisconsin Art\, or spend a day in downtown West Bend or nearby Cedarburg. \n$300 Single Occupancy \n$270 Double Occupancy \nPrice includes rooms with linens and private bathrooms\, full use of the retreat center grounds\, all on-site activities\, and 4 shared meals (Friday dinner – Sunday breakfast\, with Saturday’s lunch out). Full and partial scholarships available.
URL:https://fcc-cl.org/events/womens-retreat-friday-may-15-sunday-may-17-2/
LOCATION:First Congregational Church of Crystal Lake\, IL\, 461 Pierson Street\, Crystal Lake\, IL\, 60014\, United States
CATEGORIES:Annual,Featured
ATTACH;FMTTYPE=image/jpeg:https://fcc-cl.org/wp-content/uploads/2026/02/Womens-Retreat-2026-with-QR_Web.jpg
ORGANIZER;CN="Pastor Emily Davis":MAILTO:emily@fcc-cl.org
END:VEVENT
BEGIN:VEVENT
DTSTART;TZID=America/Chicago:20260517T060000
DTEND;TZID=America/Chicago:20260517T180000
DTSTAMP:20260423T170415
CREATED:20260225T181551Z
LAST-MODIFIED:20260225T181551Z
UID:12121-1778997600-1779040800@fcc-cl.org
SUMMARY:Women's Retreat - Friday\, May 15 - Sunday\, May 17
DESCRIPTION:Women’s Retreat\nFriday\, May 15 – Sunday\, May 17\nIt’s a girls’ trip! Join us for a weekend of FELLOWSHIP and FUN at Cedar Valley Retreat Center in West Bend\, WI. \nJust a short drive north from the metro Milwaukee area\, Cedar Valley is surrounded by 100 acres of pastoral beauty. On site\, you’ll have access to hiking trails\, a zen garden\, labyrinth\, small pond\, fire pit\, and gazebo. Go exploring to enjoy more natural beauty at the Kettle Moraine State Forest\, take a trip to the Museum of Wisconsin Art\, or spend a day in downtown West Bend or nearby Cedarburg. \n$300 Single Occupancy \n$270 Double Occupancy \nPrice includes rooms with linens and private bathrooms\, full use of the retreat center grounds\, all on-site activities\, and 4 shared meals (Friday dinner – Sunday breakfast\, with Saturday’s lunch out). Full and partial scholarships available.
URL:https://fcc-cl.org/events/womens-retreat-friday-may-15-sunday-may-17-3/
LOCATION:First Congregational Church of Crystal Lake\, IL\, 461 Pierson Street\, Crystal Lake\, IL\, 60014\, United States
CATEGORIES:Annual,Featured
ATTACH;FMTTYPE=image/jpeg:https://fcc-cl.org/wp-content/uploads/2026/02/Womens-Retreat-2026-with-QR_Web.jpg
ORGANIZER;CN="Pastor Emily Davis":MAILTO:emily@fcc-cl.org
END:VEVENT
BEGIN:VEVENT
DTSTART;TZID=America/Chicago:20260517T100000
DTEND;TZID=America/Chicago:20260517T113000
DTSTAMP:20260423T170415
CREATED:20260330T154148Z
LAST-MODIFIED:20260407T142533Z
UID:12400-1779012000-1779017400@fcc-cl.org
SUMMARY:Worship Service - 5/17/2026 at 10AM
DESCRIPTION:Join us every Sunday in person or Watch LIVE online @ 10am\nSermon: TBD\nTitle: TBD\nScripture: TBD
URL:https://fcc-cl.org/events/worship-service-5-17-2026-at-10am/
LOCATION:First Congregational Church of Crystal Lake\, IL\, 461 Pierson Street\, Crystal Lake\, IL\, 60014\, United States
CATEGORIES:Featured,Weekly
ATTACH;FMTTYPE=image/jpeg:https://fcc-cl.org/wp-content/uploads/2026/03/Worship-Graphic-5-17-2026_updated_Web.jpg
ORGANIZER;CN="Pastor Eric Fistler":MAILTO:eric@fcc-cl.org
END:VEVENT
BEGIN:VEVENT
DTSTART;TZID=America/Chicago:20260517T111500
DTEND;TZID=America/Chicago:20260517T121500
DTSTAMP:20260423T170415
CREATED:20260330T160704Z
LAST-MODIFIED:20260330T160704Z
UID:12408-1779016500-1779020100@fcc-cl.org
SUMMARY:Sunday Morning Adult Discussion Group
DESCRIPTION:Join us for the\nSunday Morning Adult Discussion Group\nSundays after Worship at 11:15AM\nin the Library
URL:https://fcc-cl.org/events/sunday-morning-adult-discussion-group-6/
LOCATION:First Congregational Church of Crystal Lake\, IL\, 461 Pierson Street\, Crystal Lake\, IL\, 60014\, United States
CATEGORIES:Featured,Weekly
ATTACH;FMTTYPE=image/jpeg:https://fcc-cl.org/wp-content/uploads/2025/09/FCC-Sunday-Morning-Adult-Discussion-Group-Marble-Background_Web.jpg
ORGANIZER;CN="Mike Chakoian":MAILTO:mike@chakoian.com
END:VEVENT
BEGIN:VEVENT
DTSTART;TZID=America/Chicago:20260520T083000
DTEND;TZID=America/Chicago:20260520T093000
DTSTAMP:20260423T170415
CREATED:20260330T162827Z
LAST-MODIFIED:20260330T162827Z
UID:12436-1779265800-1779269400@fcc-cl.org
SUMMARY:FCC - Yoga
DESCRIPTION:FCC Yoga\nWednesdays 8:30AM – 9:30AM\nIf you have any questions\, please contact: \nDeb Rosulek \nPhone: (815) 354-2309 \ne-mail: debrosulek@yahoo.com
URL:https://fcc-cl.org/events/fcc-yoga-12/
LOCATION:First Congregational Church of Crystal Lake\, IL\, 461 Pierson Street\, Crystal Lake\, IL\, 60014\, United States
CATEGORIES:Weekly
ATTACH;FMTTYPE=image/jpeg:https://fcc-cl.org/wp-content/uploads/2025/09/FCC-YOGA-2025-26_Web.jpg
ORGANIZER;CN="Lisa Mason":MAILTO:lisa@fcc-cl.org
END:VEVENT
BEGIN:VEVENT
DTSTART;TZID=America/Chicago:20260520T183000
DTEND;TZID=America/Chicago:20260520T190000
DTSTAMP:20260423T170415
CREATED:20260330T143649Z
LAST-MODIFIED:20260330T143649Z
UID:12328-1779301800-1779303600@fcc-cl.org
SUMMARY:Prayers for Peace
DESCRIPTION:Prayers for Peace\nJoin us Wednesday Evenings\nA simple\, 30-minute midweek gathering in quiet reflection\, scripture\, and prayer for all those impacted by violence and conflict around the world.
URL:https://fcc-cl.org/events/prayers-for-peace-4/
LOCATION:First Congregational Church of Crystal Lake\, IL\, 461 Pierson Street\, Crystal Lake\, IL\, 60014\, United States
CATEGORIES:Featured,Weekly
ATTACH;FMTTYPE=image/png:https://fcc-cl.org/wp-content/uploads/2026/03/Prayers-for-Peace-scaled.png
ORGANIZER;CN="Pastor Eric Fistler":MAILTO:eric@fcc-cl.org
END:VEVENT
BEGIN:VEVENT
DTSTART;TZID=America/Chicago:20260524T100000
DTEND;TZID=America/Chicago:20260524T113000
DTSTAMP:20260423T170415
CREATED:20260330T154044Z
LAST-MODIFIED:20260407T142623Z
UID:12395-1779616800-1779622200@fcc-cl.org
SUMMARY:Worship Service - 5/24/2026 - 10am
DESCRIPTION:Join us every Sunday in person or Watch LIVE online @ 10am\nSermon: TBD\nTitle: TBD\nScripture: TBD
URL:https://fcc-cl.org/events/worship-service-5-24-2026-10am/
LOCATION:First Congregational Church of Crystal Lake\, IL\, 461 Pierson Street\, Crystal Lake\, IL\, 60014\, United States
CATEGORIES:Featured,Weekly
ATTACH;FMTTYPE=image/jpeg:https://fcc-cl.org/wp-content/uploads/2026/03/Worship-Graphic-5-24-2026_updated_Web.jpg
ORGANIZER;CN="Pastor Eric Fistler":MAILTO:eric@fcc-cl.org
END:VEVENT
BEGIN:VEVENT
DTSTART;TZID=America/Chicago:20260524T111500
DTEND;TZID=America/Chicago:20260524T121500
DTSTAMP:20260423T170415
CREATED:20260330T160734Z
LAST-MODIFIED:20260330T160734Z
UID:12409-1779621300-1779624900@fcc-cl.org
SUMMARY:Sunday Morning Adult Discussion Group
DESCRIPTION:Join us for the\nSunday Morning Adult Discussion Group\nSundays after Worship at 11:15AM\nin the Library
URL:https://fcc-cl.org/events/sunday-morning-adult-discussion-group-7/
LOCATION:First Congregational Church of Crystal Lake\, IL\, 461 Pierson Street\, Crystal Lake\, IL\, 60014\, United States
CATEGORIES:Featured,Weekly
ATTACH;FMTTYPE=image/jpeg:https://fcc-cl.org/wp-content/uploads/2025/09/FCC-Sunday-Morning-Adult-Discussion-Group-Marble-Background_Web.jpg
ORGANIZER;CN="Mike Chakoian":MAILTO:mike@chakoian.com
END:VEVENT
BEGIN:VEVENT
DTSTART;TZID=America/Chicago:20260526T120000
DTEND;TZID=America/Chicago:20260526T130000
DTSTAMP:20260423T170415
CREATED:20260330T140935Z
LAST-MODIFIED:20260330T140935Z
UID:12292-1779796800-1779800400@fcc-cl.org
SUMMARY:Community Lunch
DESCRIPTION:Every 2nd and 4th Tuesday each month at 12:00pm – 1:00pm\nBring your lunch\, join us in Shaper Hall\, everyone is welcome!
URL:https://fcc-cl.org/events/community-lunch-6/
LOCATION:First Congregational Church of Crystal Lake\, IL\, 461 Pierson Street\, Crystal Lake\, IL\, 60014\, United States
CATEGORIES:Bi-Monthly,Featured
ATTACH;FMTTYPE=image/jpeg:https://fcc-cl.org/wp-content/uploads/2025/05/FCC-Community-Lunch-2024-2025_V2_Web.jpg
ORGANIZER;CN="Lisa Mason":MAILTO:lisa@fcc-cl.org
END:VEVENT
BEGIN:VEVENT
DTSTART;TZID=America/Chicago:20260527T083000
DTEND;TZID=America/Chicago:20260527T093000
DTSTAMP:20260423T170415
CREATED:20260330T162901Z
LAST-MODIFIED:20260330T162901Z
UID:12443-1779870600-1779874200@fcc-cl.org
SUMMARY:FCC - Yoga
DESCRIPTION:FCC Yoga\nWednesdays 8:30AM – 9:30AM\nIf you have any questions\, please contact: \nDeb Rosulek \nPhone: (815) 354-2309 \ne-mail: debrosulek@yahoo.com
URL:https://fcc-cl.org/events/fcc-yoga-13/
LOCATION:First Congregational Church of Crystal Lake\, IL\, 461 Pierson Street\, Crystal Lake\, IL\, 60014\, United States
CATEGORIES:Weekly
ATTACH;FMTTYPE=image/jpeg:https://fcc-cl.org/wp-content/uploads/2025/09/FCC-YOGA-2025-26_Web.jpg
ORGANIZER;CN="Lisa Mason":MAILTO:lisa@fcc-cl.org
END:VEVENT
BEGIN:VEVENT
DTSTART;TZID=America/Chicago:20260527T183000
DTEND;TZID=America/Chicago:20260527T190000
DTSTAMP:20260423T170415
CREATED:20260330T143733Z
LAST-MODIFIED:20260330T143733Z
UID:12329-1779906600-1779908400@fcc-cl.org
SUMMARY:Prayers for Peace
DESCRIPTION:Prayers for Peace\nJoin us Wednesday Evenings\nA simple\, 30-minute midweek gathering in quiet reflection\, scripture\, and prayer for all those impacted by violence and conflict around the world.
URL:https://fcc-cl.org/events/prayers-for-peace-5/
LOCATION:First Congregational Church of Crystal Lake\, IL\, 461 Pierson Street\, Crystal Lake\, IL\, 60014\, United States
CATEGORIES:Featured,Weekly
ATTACH;FMTTYPE=image/png:https://fcc-cl.org/wp-content/uploads/2026/03/Prayers-for-Peace-scaled.png
ORGANIZER;CN="Pastor Eric Fistler":MAILTO:eric@fcc-cl.org
END:VEVENT
BEGIN:VEVENT
DTSTART;TZID=America/Chicago:20260529T060000
DTEND;TZID=America/Chicago:20260529T180000
DTSTAMP:20260423T170415
CREATED:20260225T182110Z
LAST-MODIFIED:20260401T145105Z
UID:12114-1780034400-1780077600@fcc-cl.org
SUMMARY:Men's Retreat - Friday\, May 29 - Sunday\, May 31
DESCRIPTION:Men’s Retreat\nFriday\, May 29 – Sunday\, May 31\nLocation: Green Lake Conference Center \nCost: $200 per person \nNumber of spots available: 18 \nInformation: Contact Tyler Iscra at 815.219.7097; tyler@fcc-cl.org or \nScott Hagedorn at 224.230.0603
URL:https://fcc-cl.org/events/mens-retreat-friday-may-29-sunday-may-31/
LOCATION:First Congregational Church of Crystal Lake\, IL\, 461 Pierson Street\, Crystal Lake\, IL\, 60014\, United States
CATEGORIES:Annual,Featured
ATTACH;FMTTYPE=image/jpeg:https://fcc-cl.org/wp-content/uploads/2026/02/2026-Mens-Retreat-with-QR_Web-1.jpg
ORGANIZER;CN="Tyler Iscra":MAILTO:tyler@fcc-cl.org
END:VEVENT
BEGIN:VEVENT
DTSTART;TZID=America/Chicago:20260530T060000
DTEND;TZID=America/Chicago:20260530T180000
DTSTAMP:20260423T170415
CREATED:20260225T182224Z
LAST-MODIFIED:20260401T144928Z
UID:12125-1780120800-1780164000@fcc-cl.org
SUMMARY:Men's Retreat - Friday\, May 29 - Sunday\, May 31
DESCRIPTION:Men’s Retreat\nFriday\, May 29 – Sunday\, May 31\nLocation: Green Lake Conference Center \nCost: $200 per person \nNumber of spots available: 18 \nInformation: Contact Tyler Iscra at 815.219.7097; tyler@fcc-cl.org or \nScott Hagedorn at 224.230.0603
URL:https://fcc-cl.org/events/mens-retreat-friday-may-29-sunday-may-31-2/
LOCATION:First Congregational Church of Crystal Lake\, IL\, 461 Pierson Street\, Crystal Lake\, IL\, 60014\, United States
CATEGORIES:Annual,Featured
ATTACH;FMTTYPE=image/jpeg:https://fcc-cl.org/wp-content/uploads/2026/02/2026-Mens-Retreat-with-QR_Web-1.jpg
ORGANIZER;CN="Tyler Iscra":MAILTO:tyler@fcc-cl.org
END:VEVENT
BEGIN:VEVENT
DTSTART;TZID=America/Chicago:20260531T060000
DTEND;TZID=America/Chicago:20260531T180000
DTSTAMP:20260423T170415
CREATED:20260225T182340Z
LAST-MODIFIED:20260401T145237Z
UID:12126-1780207200-1780250400@fcc-cl.org
SUMMARY:Men's Retreat - Friday\, May 29 - Sunday\, May 31
DESCRIPTION:Men’s Retreat\nFriday\, May 29 – Sunday\, May 31\nLocation: Green Lake Conference Center \nCost: $200 per person \nNumber of spots available: 18 \nInformation: Contact Tyler Iscra at 815.219.7097; tyler@fcc-cl.org or \nScott Hagedorn at 224.230.0603
URL:https://fcc-cl.org/events/mens-retreat-friday-may-29-sunday-may-31-3/
LOCATION:First Congregational Church of Crystal Lake\, IL\, 461 Pierson Street\, Crystal Lake\, IL\, 60014\, United States
CATEGORIES:Annual,Featured
ATTACH;FMTTYPE=image/jpeg:https://fcc-cl.org/wp-content/uploads/2026/02/2026-Mens-Retreat-with-QR_Web-1.jpg
ORGANIZER;CN="Tyler Iscra":MAILTO:tyler@fcc-cl.org
END:VEVENT
END:VCALENDAR