BEGIN:VCALENDAR
VERSION:2.0
PRODID:-//First Congregational Church of Crystal Lake - ECPv6.15.20//NONSGML v1.0//EN
CALSCALE:GREGORIAN
METHOD:PUBLISH
X-WR-CALNAME:First Congregational Church of Crystal Lake
X-ORIGINAL-URL:https://fcc-cl.org
X-WR-CALDESC:Events for First Congregational Church of Crystal Lake
REFRESH-INTERVAL;VALUE=DURATION:PT1H
X-Robots-Tag:noindex
X-PUBLISHED-TTL:PT1H
BEGIN:VTIMEZONE
TZID:America/Chicago
BEGIN:DAYLIGHT
TZOFFSETFROM:-0600
TZOFFSETTO:-0500
TZNAME:CDT
DTSTART:20250309T080000
END:DAYLIGHT
BEGIN:STANDARD
TZOFFSETFROM:-0500
TZOFFSETTO:-0600
TZNAME:CST
DTSTART:20251102T070000
END:STANDARD
BEGIN:DAYLIGHT
TZOFFSETFROM:-0600
TZOFFSETTO:-0500
TZNAME:CDT
DTSTART:20260308T080000
END:DAYLIGHT
BEGIN:STANDARD
TZOFFSETFROM:-0500
TZOFFSETTO:-0600
TZNAME:CST
DTSTART:20261101T070000
END:STANDARD
BEGIN:DAYLIGHT
TZOFFSETFROM:-0600
TZOFFSETTO:-0500
TZNAME:CDT
DTSTART:20270314T080000
END:DAYLIGHT
BEGIN:STANDARD
TZOFFSETFROM:-0500
TZOFFSETTO:-0600
TZNAME:CST
DTSTART:20271107T070000
END:STANDARD
END:VTIMEZONE
BEGIN:VEVENT
DTSTART;TZID=America/Chicago:20260417T123000
DTEND;TZID=America/Chicago:20260417T143000
DTSTAMP:20260423T192433
CREATED:20260330T134609Z
LAST-MODIFIED:20260330T134609Z
UID:12283-1776429000-1776436200@fcc-cl.org
SUMMARY:Young at Heart - Lunch at Cooper's Hawk - 4/17/2026
DESCRIPTION:Friday\, April 17. 2026 at 12:30pm\nReservations by 4/14/2026\nLunch at Coopers Hawk\n1741 S. Randall Rd\, Algonqin\, IL 60102 \nOrder off the menu – Separate Checks \nTo sign up\, call Pat Bloomquist (815) 451-9655
URL:https://fcc-cl.org/events/young-at-heart-lunch-at-coopers-hawk-4-17-2026/
LOCATION:Cooper’s Hawk Winery & Restaurant\, 1741 S. Randall Rd\, Algonqin\, IL\, 60201\, United States
CATEGORIES:Featured
ATTACH;FMTTYPE=image/jpeg:https://fcc-cl.org/wp-content/uploads/2026/03/FCC-Young-at-Heart-Young-at-Heart-Coopers-Hawk-Lunch_Web.jpg
END:VEVENT
BEGIN:VEVENT
DTSTART;TZID=America/Chicago:20260415T183000
DTEND;TZID=America/Chicago:20260415T190000
DTSTAMP:20260423T192433
CREATED:20260319T140800Z
LAST-MODIFIED:20260319T140800Z
UID:12197-1776277800-1776279600@fcc-cl.org
SUMMARY:Prayers for Peace - 4/15/2026
DESCRIPTION:Prayers for Peace\nJoin us Wednesday Evenings\nA simple\, 30-minute midweek gathering in quiet reflection\, scripture\, and prayer for all those impacted by violence and conflict around the world.
URL:https://fcc-cl.org/events/prayers-for-peace-4-15-2026/
LOCATION:First Congregational Church of Crystal Lake\, IL\, 461 Pierson Street\, Crystal Lake\, IL\, 60014\, United States
CATEGORIES:Featured,Weekly
ATTACH;FMTTYPE=image/png:https://fcc-cl.org/wp-content/uploads/2026/03/Prayers-for-Peace-scaled.png
ORGANIZER;CN="Pastor Eric Fistler":MAILTO:eric@fcc-cl.org
END:VEVENT
BEGIN:VEVENT
DTSTART;TZID=America/Chicago:20260415T083000
DTEND;TZID=America/Chicago:20260415T093000
DTSTAMP:20260423T192433
CREATED:20260330T162301Z
LAST-MODIFIED:20260330T162301Z
UID:12429-1776241800-1776245400@fcc-cl.org
SUMMARY:FCC - Yoga
DESCRIPTION:FCC Yoga\nWednesdays 8:30AM – 9:30AM\nIf you have any questions\, please contact: \nDeb Rosulek \nPhone: (815) 354-2309 \ne-mail: debrosulek@yahoo.com
URL:https://fcc-cl.org/events/fcc-yoga-3/
LOCATION:First Congregational Church of Crystal Lake\, IL\, 461 Pierson Street\, Crystal Lake\, IL\, 60014\, United States
CATEGORIES:Weekly
ATTACH;FMTTYPE=image/jpeg:https://fcc-cl.org/wp-content/uploads/2025/09/FCC-YOGA-2025-26_Web.jpg
ORGANIZER;CN="Lisa Mason":MAILTO:lisa@fcc-cl.org
END:VEVENT
BEGIN:VEVENT
DTSTART;TZID=America/Chicago:20260414T130000
DTEND;TZID=America/Chicago:20260414T140000
DTSTAMP:20260423T192433
CREATED:20260330T142307Z
LAST-MODIFIED:20260330T142702Z
UID:12284-1776171600-1776175200@fcc-cl.org
SUMMARY:Young at Heart - Game Day
DESCRIPTION:Young At Heart Game Day\nEvery 2nd Tuesday of the month following \nCommunity Lunch in Schaper Hall
URL:https://fcc-cl.org/events/young-at-heart-game-day/
LOCATION:First Congregational Church of Crystal Lake\, IL\, 461 Pierson Street\, Crystal Lake\, IL\, 60014\, United States
CATEGORIES:Featured,Monthly
ATTACH;FMTTYPE=image/jpeg:https://fcc-cl.org/wp-content/uploads/2026/03/FCC-Young-at-Heart-Young-at-Heart-Game-Day_Update_Web.jpg
END:VEVENT
BEGIN:VEVENT
DTSTART;TZID=America/Chicago:20260414T120000
DTEND;TZID=America/Chicago:20260414T130000
DTSTAMP:20260423T192433
CREATED:20260330T140535Z
LAST-MODIFIED:20260330T140535Z
UID:12289-1776168000-1776171600@fcc-cl.org
SUMMARY:Community Lunch
DESCRIPTION:Every 2nd and 4th Tuesday each month at 12:00pm – 1:00pm\nBring your lunch\, join us in Shaper Hall\, everyone is welcome!
URL:https://fcc-cl.org/events/community-lunch/
LOCATION:First Congregational Church of Crystal Lake\, IL\, 461 Pierson Street\, Crystal Lake\, IL\, 60014\, United States
CATEGORIES:Bi-Monthly,Featured
ATTACH;FMTTYPE=image/jpeg:https://fcc-cl.org/wp-content/uploads/2025/05/FCC-Community-Lunch-2024-2025_V2_Web.jpg
ORGANIZER;CN="Lisa Mason":MAILTO:lisa@fcc-cl.org
END:VEVENT
BEGIN:VEVENT
DTSTART;TZID=America/Chicago:20260412T111500
DTEND;TZID=America/Chicago:20260412T121500
DTSTAMP:20260423T192433
CREATED:20260330T160337Z
LAST-MODIFIED:20260330T160337Z
UID:12403-1775992500-1775996100@fcc-cl.org
SUMMARY:Sunday Morning Adult Discussion Group
DESCRIPTION:Join us for the\nSunday Morning Adult Discussion Group\nSundays after Worship at 11:15AM\nin the Library
URL:https://fcc-cl.org/events/sunday-morning-adult-discussion-group/
LOCATION:First Congregational Church of Crystal Lake\, IL\, 461 Pierson Street\, Crystal Lake\, IL\, 60014\, United States
CATEGORIES:Featured,Weekly
ATTACH;FMTTYPE=image/jpeg:https://fcc-cl.org/wp-content/uploads/2025/09/FCC-Sunday-Morning-Adult-Discussion-Group-Marble-Background_Web.jpg
ORGANIZER;CN="Mike Chakoian":MAILTO:mike@chakoian.com
END:VEVENT
BEGIN:VEVENT
DTSTART;TZID=America/Chicago:20260412T100000
DTEND;TZID=America/Chicago:20260412T113000
DTSTAMP:20260423T192433
CREATED:20260330T152443Z
LAST-MODIFIED:20260330T152443Z
UID:11994-1775988000-1775993400@fcc-cl.org
SUMMARY:Worship Service - 4/12/2026 at 10AM
DESCRIPTION:Join us every Sunday in person or Watch LIVE online @ 10am\nSermon: TBD\nTitle: TBD\nScripture: TBD
URL:https://fcc-cl.org/events/worship-service-4-12-2026-at-10am/
LOCATION:First Congregational Church of Crystal Lake\, IL\, 461 Pierson Street\, Crystal Lake\, IL\, 60014\, United States
CATEGORIES:Featured,Weekly
ATTACH;FMTTYPE=image/jpeg:https://fcc-cl.org/wp-content/uploads/2026/02/Worship-Graphic-4-12-2026_Web.jpg
ORGANIZER;CN="Pastor Eric Fistler":MAILTO:eric@fcc-cl.org
END:VEVENT
BEGIN:VEVENT
DTSTART;TZID=America/Chicago:20260412T081500
DTEND;TZID=America/Chicago:20260412T085000
DTSTAMP:20260423T192433
CREATED:20260330T150139Z
LAST-MODIFIED:20260330T151529Z
UID:11986-1775981700-1775983800@fcc-cl.org
SUMMARY:Worship Service - 4/12/2026 at 8:15am
DESCRIPTION:Join us every Sunday in person at 8:15am in the Chapel\nSermon: TBD\nTitle: TBD\nScripture: TBD
URL:https://fcc-cl.org/events/worship-service-4-12-2026-at-815am/
LOCATION:First Congregational Church of Crystal Lake\, IL\, 461 Pierson Street\, Crystal Lake\, IL\, 60014\, United States
CATEGORIES:Featured,Weekly
ATTACH;FMTTYPE=image/jpeg:https://fcc-cl.org/wp-content/uploads/2026/02/Worship-Graphic-4-12-2026_Web.jpg
ORGANIZER;CN="Pastor Eric Fistler":MAILTO:eric@fcc-cl.org
END:VEVENT
BEGIN:VEVENT
DTSTART;TZID=America/Chicago:20260408T183000
DTEND;TZID=America/Chicago:20260408T190000
DTSTAMP:20260423T192433
CREATED:20260319T140657Z
LAST-MODIFIED:20260319T140657Z
UID:12196-1775673000-1775674800@fcc-cl.org
SUMMARY:Prayers for Peace - 4/8/2025
DESCRIPTION:Prayers for Peace\nJoin us Wednesday Evenings\nA simple\, 30-minute midweek gathering in quiet reflection\, scripture\, and prayer for all those impacted by violence and conflict around the world.
URL:https://fcc-cl.org/events/prayers-for-peace-4-8-2025/
LOCATION:First Congregational Church of Crystal Lake\, IL\, 461 Pierson Street\, Crystal Lake\, IL\, 60014\, United States
CATEGORIES:Featured,Weekly
ATTACH;FMTTYPE=image/png:https://fcc-cl.org/wp-content/uploads/2026/03/Prayers-for-Peace-scaled.png
ORGANIZER;CN="Pastor Eric Fistler":MAILTO:eric@fcc-cl.org
END:VEVENT
BEGIN:VEVENT
DTSTART;TZID=America/Chicago:20260408T083000
DTEND;TZID=America/Chicago:20260408T093000
DTSTAMP:20260423T192433
CREATED:20260330T162219Z
LAST-MODIFIED:20260330T162219Z
UID:12428-1775637000-1775640600@fcc-cl.org
SUMMARY:FCC - Yoga
DESCRIPTION:FCC Yoga\nWednesdays 8:30AM – 9:30AM\nIf you have any questions\, please contact: \nDeb Rosulek \nPhone: (815) 354-2309 \ne-mail: debrosulek@yahoo.com
URL:https://fcc-cl.org/events/fcc-yoga-2/
LOCATION:First Congregational Church of Crystal Lake\, IL\, 461 Pierson Street\, Crystal Lake\, IL\, 60014\, United States
CATEGORIES:Weekly
ATTACH;FMTTYPE=image/jpeg:https://fcc-cl.org/wp-content/uploads/2025/09/FCC-YOGA-2025-26_Web.jpg
ORGANIZER;CN="Lisa Mason":MAILTO:lisa@fcc-cl.org
END:VEVENT
BEGIN:VEVENT
DTSTART;TZID=America/Chicago:20260405T100000
DTEND;TZID=America/Chicago:20260405T113000
DTSTAMP:20260423T192433
CREATED:20260225T155959Z
LAST-MODIFIED:20260330T151824Z
UID:11997-1775383200-1775388600@fcc-cl.org
SUMMARY:Worship Service - 4/5/2026 at 10AM - Easter Sunday
DESCRIPTION:Join us this Easter Sunday in person or Watch LIVE online @ 10am\nSermon: Rev. Eric C. Fistler\nTitle: TBD\nScripture: Matthew 28:1-10
URL:https://fcc-cl.org/events/worship-service-3-5-2026-at-10am-easter-sunday/
LOCATION:First Congregational Church of Crystal Lake\, IL\, 461 Pierson Street\, Crystal Lake\, IL\, 60014\, United States
CATEGORIES:Annual,Featured
ATTACH;FMTTYPE=image/jpeg:https://fcc-cl.org/wp-content/uploads/2026/02/Worship-Service-4-5-2026_Easter-Sunday_Web-scaled.jpg
ORGANIZER;CN="Pastor Eric Fistler":MAILTO:eric@fcc-cl.org
END:VEVENT
BEGIN:VEVENT
DTSTART;TZID=America/Chicago:20260405T100000
DTEND;TZID=America/Chicago:20260405T113000
DTSTAMP:20260423T192433
CREATED:20260225T155740Z
LAST-MODIFIED:20260225T155740Z
UID:12028-1775383200-1775388600@fcc-cl.org
SUMMARY:Worship Service - 4/5/2026 at 8:15am - Easter Sunday
DESCRIPTION:Join us this Easter Sunday in person at 8:15am in the Chapel\nSermon: Rev. Eric C. Fistler\nTitle: TBD\nScripture: Matthew 28:1-10
URL:https://fcc-cl.org/events/worship-service-4-5-2026-at-815am-easter-sunday/
LOCATION:First Congregational Church of Crystal Lake\, IL\, 461 Pierson Street\, Crystal Lake\, IL\, 60014\, United States
CATEGORIES:Annual,Featured
ATTACH;FMTTYPE=image/jpeg:https://fcc-cl.org/wp-content/uploads/2026/02/Worship-Service-4-5-2026_Easter-Sunday_Web-scaled.jpg
ORGANIZER;CN="Pastor Eric Fistler":MAILTO:eric@fcc-cl.org
END:VEVENT
BEGIN:VEVENT
DTSTART;TZID=America/Chicago:20260405T060000
DTEND;TZID=America/Chicago:20260405T070000
DTSTAMP:20260423T192433
CREATED:20260225T155142Z
LAST-MODIFIED:20260225T155142Z
UID:12018-1775368800-1775372400@fcc-cl.org
SUMMARY:Worship Service - 4/5/2026 at 6:00 - West Beach - Easter Sunrise
DESCRIPTION:Join us at West Beach in person at 6:00am\nSermon: Rev. Eric C. Fistler\nTitle: TBD\nScripture: Matthew 28:1-10
URL:https://fcc-cl.org/events/worship-service-4-5-2026-at-600-west-beach-easter-sunrise/
LOCATION:First Congregational Church of Crystal Lake\, IL\, 461 Pierson Street\, Crystal Lake\, IL\, 60014\, United States
CATEGORIES:Annual,Featured
ATTACH;FMTTYPE=image/jpeg:https://fcc-cl.org/wp-content/uploads/2026/02/Easter-Sunrise-2026_Web.jpg
ORGANIZER;CN="Pastor Eric Fistler":MAILTO:eric@fcc-cl.org
END:VEVENT
BEGIN:VEVENT
DTSTART;TZID=America/Chicago:20260404T100000
DTEND;TZID=America/Chicago:20260404T120000
DTSTAMP:20260423T192433
CREATED:20260225T161921Z
LAST-MODIFIED:20260225T161948Z
UID:12032-1775296800-1775304000@fcc-cl.org
SUMMARY:Annual Easter Eggstravaganza - Messy Church! 4/4/2026
DESCRIPTION:Annual Easter Eggstravaganza\n10:00am to Noon\nJoin us for: \nBreakfast\, Crafts\, Games\, Easter Bunny\, Story Time\, and the Great Easter Egg Hunt!
URL:https://fcc-cl.org/events/eggstravaganza-messy-church-4-4-2026/
LOCATION:First Congregational Church of Crystal Lake\, IL\, 461 Pierson Street\, Crystal Lake\, IL\, 60014\, United States
CATEGORIES:Annual,Featured
ATTACH;FMTTYPE=image/jpeg:https://fcc-cl.org/wp-content/uploads/2026/02/Eggstravaganza-2026-with-QR_Web.jpg
ORGANIZER;CN="Tyler Iscra":MAILTO:tyler@fcc-cl.org
END:VEVENT
BEGIN:VEVENT
DTSTART;TZID=America/Chicago:20260404T080000
DTEND;TZID=America/Chicago:20260404T100000
DTSTAMP:20260423T192433
CREATED:20260331T134556Z
LAST-MODIFIED:20260331T134556Z
UID:12447-1775289600-1775296800@fcc-cl.org
SUMMARY:Men's' Fellowship Breakfast - 4-4-2026 - 8:00AM
DESCRIPTION:Men’s Fellowship Breakfast\nJoin us for the first Men’s Fellowship Breakfast at 8am \nThe next Men’s Breakfast will be on Saturday\, April 4\, 2026 \nPresentation: California Gold – “and other fun things to ponder” by: Daniel E Kramer \nDaniel (Bob’s son-in-law)\, will be providing an update on his family’s 4- generation tradition in gold mining in California. \nDaniel is a professional geologist and geophysicist and will be sharing an update of his amazing story with the FCC Men’s Fellowship Breakfast. \nHope you can join us…please reply to this email if you plan to attend so we can ensure that we enough food for the breakfast \nThanks again ! \nBob Rosulek & Scott Hagedorn \n  \nWatch “Blood and Gold” \n\nhttps://www.youtube.com/watch? \n 
URL:https://fcc-cl.org/events/mens-fellowship-breakfast-4-4-2026-800am/
LOCATION:First Congregational Church of Crystal Lake\, IL\, 461 Pierson Street\, Crystal Lake\, IL\, 60014\, United States
CATEGORIES:Featured,Monthly
ATTACH;FMTTYPE=image/jpeg:https://fcc-cl.org/wp-content/uploads/2026/03/Mens-Fellowship-Breakfast-4-4-2026_Web.jpg
END:VEVENT
BEGIN:VEVENT
DTSTART;TZID=America/Chicago:20260403T190000
DTEND;TZID=America/Chicago:20260403T203000
DTSTAMP:20260423T192433
CREATED:20260225T154448Z
LAST-MODIFIED:20260225T160921Z
UID:12022-1775242800-1775248200@fcc-cl.org
SUMMARY:Worship Service - 4/3/2026 at 7:00pm - Good Friday
DESCRIPTION:Join us this Friday in person or Watch LIVE online @ 7PM\nTenebrae Service\nPastors: Rev. Eric C. Fistler and Rev. Emily Ann Davis
URL:https://fcc-cl.org/events/worship-service-12-15-2024-at-10am-2/
LOCATION:First Congregational Church of Crystal Lake\, IL\, 461 Pierson Street\, Crystal Lake\, IL\, 60014\, United States
CATEGORIES:Annual,Featured
ATTACH;FMTTYPE=image/jpeg:https://fcc-cl.org/wp-content/uploads/2026/02/Good-Friday-Worship-Service-2026_Web.jpg
ORGANIZER;CN="Pastor Eric Fistler":MAILTO:eric@fcc-cl.org
END:VEVENT
BEGIN:VEVENT
DTSTART;TZID=America/Chicago:20260402T180000
DTEND;TZID=America/Chicago:20260402T200000
DTSTAMP:20260423T192433
CREATED:20260225T153459Z
LAST-MODIFIED:20260225T153459Z
UID:11985-1775152800-1775160000@fcc-cl.org
SUMMARY:Dinner and Worship Service - 4/2/2026 - Maundy Thursday
DESCRIPTION:Join this Thursday evening at 6:00pm in Schaper Hall\nDinner and Worship
URL:https://fcc-cl.org/events/dinner-and-worship-service-4-2-2026-maundy-thursday/
LOCATION:First Congregational Church of Crystal Lake\, IL\, 461 Pierson Street\, Crystal Lake\, IL\, 60014\, United States
CATEGORIES:Annual,Featured
ATTACH;FMTTYPE=image/jpeg:https://fcc-cl.org/wp-content/uploads/2026/02/Maundy-Thursday-2026_Update_Web.jpg
ORGANIZER;CN="Pastor Eric Fistler":MAILTO:eric@fcc-cl.org
END:VEVENT
BEGIN:VEVENT
DTSTART;TZID=America/Chicago:20260402T120000
DTEND;TZID=America/Chicago:20260402T140000
DTSTAMP:20260423T192433
CREATED:20260316T180647Z
LAST-MODIFIED:20260316T180647Z
UID:12184-1775131200-1775138400@fcc-cl.org
SUMMARY:Women's Fellowship Luncheon - 4/2/2026 - 12:00PM
DESCRIPTION:Program: Our program will be provided by master gardeners from the University of Illinois Extension will discuss Nature Journaling. \nLooking for a way to strengthen your connection to nature? Whether you’re in your own yard or garden\, a local forest preserve\, park\, or traveling\, there are always opportunities to connect with the environment. Nature journaling is a wonderful way to build confidence and increase your awareness of the natural world around you. Join Master Gardeners Kim and Cathy as they walk you through this rewarding practice. \nLunch will be prepared by Kim King. Cost will be $5.  Please RSVP by March 31st\,  to help us get an accurate count for lunch.  You can use Realm\, call the church office at 815-459-6010\, or sign up at the Young at Heart Table in Shaper Hall on Sundays.  Looking forward to seeing everyone!
URL:https://fcc-cl.org/events/womens-fellowship-luncheon-4-2-2026-1200pm/
LOCATION:First Congregational Church of Crystal Lake\, IL\, 461 Pierson Street\, Crystal Lake\, IL\, 60014\, United States
CATEGORIES:Featured,Monthly
ATTACH;FMTTYPE=image/jpeg:https://fcc-cl.org/wp-content/uploads/2026/03/FCC-Womens-Fellowship-4-2-2026_Web.jpg
ORGANIZER;CN="Carin Trotter":MAILTO:carintrotter@gmail.com
END:VEVENT
BEGIN:VEVENT
DTSTART;TZID=America/Chicago:20260401T183000
DTEND;TZID=America/Chicago:20260401T190000
DTSTAMP:20260423T192433
CREATED:20260319T140443Z
LAST-MODIFIED:20260319T140443Z
UID:12195-1775068200-1775070000@fcc-cl.org
SUMMARY:Prayers for Peace - 4/1/2026
DESCRIPTION:Prayers for Peace\nJoin us Wednesday Evenings\nA simple\, 30-minute midweek gathering in quiet reflection\, scripture\, and prayer for all those impacted by violence and conflict around the world.
URL:https://fcc-cl.org/events/prayers-for-peace-4-1-2026/
LOCATION:First Congregational Church of Crystal Lake\, IL\, 461 Pierson Street\, Crystal Lake\, IL\, 60014\, United States
CATEGORIES:Featured,Weekly
ATTACH;FMTTYPE=image/png:https://fcc-cl.org/wp-content/uploads/2026/03/Prayers-for-Peace-scaled.png
ORGANIZER;CN="Pastor Eric Fistler":MAILTO:eric@fcc-cl.org
END:VEVENT
BEGIN:VEVENT
DTSTART;TZID=America/Chicago:20260401T083000
DTEND;TZID=America/Chicago:20260401T093000
DTSTAMP:20260423T192433
CREATED:20260330T162147Z
LAST-MODIFIED:20260330T162147Z
UID:12427-1775032200-1775035800@fcc-cl.org
SUMMARY:FCC - Yoga
DESCRIPTION:FCC Yoga\nWednesdays 8:30AM – 9:30AM\nIf you have any questions\, please contact: \nDeb Rosulek \nPhone: (815) 354-2309 \ne-mail: debrosulek@yahoo.com
URL:https://fcc-cl.org/events/fcc-yoga/
LOCATION:First Congregational Church of Crystal Lake\, IL\, 461 Pierson Street\, Crystal Lake\, IL\, 60014\, United States
CATEGORIES:Weekly
ATTACH;FMTTYPE=image/jpeg:https://fcc-cl.org/wp-content/uploads/2025/09/FCC-YOGA-2025-26_Web.jpg
ORGANIZER;CN="Lisa Mason":MAILTO:lisa@fcc-cl.org
END:VEVENT
BEGIN:VEVENT
DTSTART;TZID=America/Chicago:20260329T111500
DTEND;TZID=America/Chicago:20260329T121500
DTSTAMP:20260423T192433
CREATED:20251217T214301Z
LAST-MODIFIED:20251217T214301Z
UID:10423-1774782900-1774786500@fcc-cl.org
SUMMARY:Sunday Morning Adult Discussion Group
DESCRIPTION:Join us for the\nSunday Morning Adult Discussion Group\nSundays after Worship at 11:15AM\nin the Library
URL:https://fcc-cl.org/events/sunday-morning-adult-discussion-group-16/
LOCATION:First Congregational Church of Crystal Lake\, IL\, 461 Pierson Street\, Crystal Lake\, IL\, 60014\, United States
CATEGORIES:Featured,Weekly
ATTACH;FMTTYPE=image/jpeg:https://fcc-cl.org/wp-content/uploads/2025/09/FCC-Sunday-Morning-Adult-Discussion-Group-Marble-Background_Web.jpg
ORGANIZER;CN="Mike Chakoian":MAILTO:mike@chakoian.com
END:VEVENT
BEGIN:VEVENT
DTSTART;TZID=America/Chicago:20260329T100000
DTEND;TZID=America/Chicago:20260329T113000
DTSTAMP:20260423T192433
CREATED:20260225T152023Z
LAST-MODIFIED:20260225T153629Z
UID:11993-1774778400-1774783800@fcc-cl.org
SUMMARY:Worship Service - 3/29/2026 at 10AM - Palm Sunday
DESCRIPTION:Join us every Sunday in person or Watch LIVE online @ 10am\nSermon: Rev. Eric C. Fistler\nTitle: TBD\nScripture: Matthew 21:1-11
URL:https://fcc-cl.org/events/worship-service-3-29-2026-at-10am-palm-sunday/
LOCATION:First Congregational Church of Crystal Lake\, IL\, 461 Pierson Street\, Crystal Lake\, IL\, 60014\, United States
CATEGORIES:Annual,Featured
ATTACH;FMTTYPE=image/jpeg:https://fcc-cl.org/wp-content/uploads/2026/02/Palm-Sunday-815-1000am_Web.jpg
ORGANIZER;CN="Pastor Eric Fistler":MAILTO:eric@fcc-cl.org
END:VEVENT
BEGIN:VEVENT
DTSTART;TZID=America/Chicago:20260329T081500
DTEND;TZID=America/Chicago:20260329T085000
DTSTAMP:20260423T192433
CREATED:20260225T151817Z
LAST-MODIFIED:20260225T153546Z
UID:11984-1774772100-1774774200@fcc-cl.org
SUMMARY:Worship Service - 3/29/2026 at 8:15am - Palm Sunday
DESCRIPTION:Join us every Sunday in person at 8:15am in the Chapel\nSermon: Rev. Eric C. Fistler\nTitle: TBD\nScripture: Matthew 21:1-11
URL:https://fcc-cl.org/events/worship-service-3-29-2026-at-815am-palm-sunday/
LOCATION:First Congregational Church of Crystal Lake\, IL\, 461 Pierson Street\, Crystal Lake\, IL\, 60014\, United States
CATEGORIES:Annual,Featured
ATTACH;FMTTYPE=image/jpeg:https://fcc-cl.org/wp-content/uploads/2026/02/Palm-Sunday-815-1000am_Web.jpg
ORGANIZER;CN="Pastor Eric Fistler":MAILTO:eric@fcc-cl.org
END:VEVENT
BEGIN:VEVENT
DTSTART;TZID=America/Chicago:20260326T093000
DTEND;TZID=America/Chicago:20260326T103000
DTSTAMP:20260423T192433
CREATED:20251217T203437Z
LAST-MODIFIED:20251217T203437Z
UID:10331-1774517400-1774521000@fcc-cl.org
SUMMARY:Family Music Class
DESCRIPTION:Family Music\nFor children Birth – 6 with caregiver\nThursdays from 9:30AM – 10:30AM
URL:https://fcc-cl.org/events/family-music-class-14/
LOCATION:First Congregational Church of Crystal Lake\, IL\, 461 Pierson Street\, Crystal Lake\, IL\, 60014\, United States
CATEGORIES:Featured,Weekly
ATTACH;FMTTYPE=image/jpeg:https://fcc-cl.org/wp-content/uploads/2025/09/FCC-Family-Music-2025-26_Web.jpg
ORGANIZER;CN="Ann Tucker":MAILTO:ann@fcc-cl.org
END:VEVENT
BEGIN:VEVENT
DTSTART;TZID=America/Chicago:20260325T183000
DTEND;TZID=America/Chicago:20260325T200000
DTSTAMP:20260423T192433
CREATED:20260225T172416Z
LAST-MODIFIED:20260225T172416Z
UID:12064-1774463400-1774468800@fcc-cl.org
SUMMARY:Adult Faith Practices - A Grief Observed
DESCRIPTION:A Grief Observed\nHosted by Pastor Emily \n\nThis Lenten study will focus on C.S. Lewis’s small but powerful book\, “A Grief Observed.” \nIn a poignant account of grief after the death of his wife\, C. S. Lewis shares his struggles with faith\, doubt\, anger\, questioning God\, and the meaning of life in the face of profound loss. Based on personal journal entries kept during his bereavement\, the book details Lewis’s emotional journey from despair to a new understanding of faith and love. \nParticipants will need a copy of the text. Contact Pastor Emily for help ordering. \n\n\n 
URL:https://fcc-cl.org/events/adult-faith-practices-a-grief-observed-9/
LOCATION:First Congregational Church of Crystal Lake\, IL\, 461 Pierson Street\, Crystal Lake\, IL\, 60014\, United States
CATEGORIES:Featured,Weekly
ATTACH;FMTTYPE=image/jpeg:https://fcc-cl.org/wp-content/uploads/2025/12/Adult-Faith-Practices-A-Grief-Observed_Web.jpg
ORGANIZER;CN="Pastor Emily Davis":MAILTO:emily@fcc-cl.org
END:VEVENT
BEGIN:VEVENT
DTSTART;TZID=America/Chicago:20260325T183000
DTEND;TZID=America/Chicago:20260325T200000
DTSTAMP:20260423T192433
CREATED:20260225T171002Z
LAST-MODIFIED:20260225T171002Z
UID:12072-1774463400-1774468800@fcc-cl.org
SUMMARY:Wednesday Bible Study with Pastor Eric
DESCRIPTION:Genesis\nIn the Beginning … and Then is got complicated. \nHosted by Pastor Eric
URL:https://fcc-cl.org/events/wednesday-bible-study-with-pastor-eric-15/
LOCATION:First Congregational Church of Crystal Lake\, IL\, 461 Pierson Street\, Crystal Lake\, IL\, 60014\, United States
CATEGORIES:Featured,Weekly
ATTACH;FMTTYPE=image/jpeg:https://fcc-cl.org/wp-content/uploads/2025/12/Bible-Study-Genesis-2026_Web.jpg
ORGANIZER;CN="Pastor Emily Davis":MAILTO:emily@fcc-cl.org
END:VEVENT
BEGIN:VEVENT
DTSTART;TZID=America/Chicago:20260325T183000
DTEND;TZID=America/Chicago:20260325T190000
DTSTAMP:20260423T192433
CREATED:20260319T140106Z
LAST-MODIFIED:20260319T140559Z
UID:12191-1774463400-1774465200@fcc-cl.org
SUMMARY:Prayers for Peace - 3/25/2026
DESCRIPTION:Prayers for Peace\nJoin us Wednesday Evenings\nA simple\, 30-minute midweek gathering in quiet reflection\, scripture\, and prayer for all those impacted by violence and conflict around the world.
URL:https://fcc-cl.org/events/prayers-for-peace/
LOCATION:First Congregational Church of Crystal Lake\, IL\, 461 Pierson Street\, Crystal Lake\, IL\, 60014\, United States
CATEGORIES:Featured,Weekly
ATTACH;FMTTYPE=image/png:https://fcc-cl.org/wp-content/uploads/2026/03/Prayers-for-Peace-scaled.png
ORGANIZER;CN="Pastor Eric Fistler":MAILTO:eric@fcc-cl.org
END:VEVENT
BEGIN:VEVENT
DTSTART;TZID=America/Chicago:20260325T174500
DTEND;TZID=America/Chicago:20260325T211500
DTSTAMP:20260423T192433
CREATED:20251218T145758Z
LAST-MODIFIED:20251218T145758Z
UID:10461-1774460700-1774473300@fcc-cl.org
SUMMARY:Wednesday's Together
DESCRIPTION:Join us on Wednesdays for Dinner without the dishes! Stay for the fantastic Programs.\n  \nSCHEDULE\nAdult Faith Practices | 12:00pm – 1:00pin the Library\nAdult Bible Study | 12:00pm – 1:00pm in the Chapel\nYouth Bell Choir | 5:15pm – 6:00pm in the Bell Room\nCommunity Meal (All Ages) | 5:45pm – 6:30pm in the Schaper Hall\nJubilate Adult Choir | 6:30pm – 8:00pm in the Bell Room\nAdult Faith Practices | 6:30pm – 7:30pm in the Library\nAdult Bible Study | 6:30pm – 7:30pm in the Chapel\nCarol and Chancel Choir | 6:30pm – 7:30pm in the Choir Room\nVestry Adult Choir | 7:45pm – 9:15pm in the Sanctuary
URL:https://fcc-cl.org/events/wednesdays-together-14/
LOCATION:First Congregational Church of Crystal Lake\, IL\, 461 Pierson Street\, Crystal Lake\, IL\, 60014\, United States
CATEGORIES:Featured,Weekly
ATTACH;FMTTYPE=image/jpeg:https://fcc-cl.org/wp-content/uploads/2025/12/Wednesdays-Together-2025-2026_Updated_Web.jpg
ORGANIZER;CN="Pastor Eric Fistler":MAILTO:eric@fcc-cl.org
END:VEVENT
BEGIN:VEVENT
DTSTART;TZID=America/Chicago:20260325T120000
DTEND;TZID=America/Chicago:20260325T133000
DTSTAMP:20260423T192433
CREATED:20260225T172335Z
LAST-MODIFIED:20260225T172335Z
UID:12063-1774440000-1774445400@fcc-cl.org
SUMMARY:Adult Faith Practices - A Grief Observed
DESCRIPTION:A Grief Observed\nHosted by Pastor Emily \n\nThis Lenten study will focus on C.S. Lewis’s small but powerful book\, “A Grief Observed.” \nIn a poignant account of grief after the death of his wife\, C. S. Lewis shares his struggles with faith\, doubt\, anger\, questioning God\, and the meaning of life in the face of profound loss. Based on personal journal entries kept during his bereavement\, the book details Lewis’s emotional journey from despair to a new understanding of faith and love. \nParticipants will need a copy of the text. Contact Pastor Emily for help ordering. \n\n\n 
URL:https://fcc-cl.org/events/adult-faith-practices-a-grief-observed-8/
LOCATION:First Congregational Church of Crystal Lake\, IL\, 461 Pierson Street\, Crystal Lake\, IL\, 60014\, United States
CATEGORIES:Featured,Weekly
ATTACH;FMTTYPE=image/jpeg:https://fcc-cl.org/wp-content/uploads/2025/12/Adult-Faith-Practices-A-Grief-Observed_Web.jpg
ORGANIZER;CN="Pastor Emily Davis":MAILTO:emily@fcc-cl.org
END:VEVENT
BEGIN:VEVENT
DTSTART;TZID=America/Chicago:20260325T120000
DTEND;TZID=America/Chicago:20260325T133000
DTSTAMP:20260423T192433
CREATED:20260225T170910Z
LAST-MODIFIED:20260225T170910Z
UID:12055-1774440000-1774445400@fcc-cl.org
SUMMARY:Wednesday Bible Study with Pastor Eric
DESCRIPTION:Genesis\nIn the Beginning … and Then is got complicated. \nHosted by Pastor Eric
URL:https://fcc-cl.org/events/wednesday-bible-study-with-pastor-eric-14/
LOCATION:First Congregational Church of Crystal Lake\, IL\, 461 Pierson Street\, Crystal Lake\, IL\, 60014\, United States
CATEGORIES:Featured,Weekly
ATTACH;FMTTYPE=image/jpeg:https://fcc-cl.org/wp-content/uploads/2025/12/Bible-Study-Genesis-2026_Web.jpg
ORGANIZER;CN="Pastor Emily Davis":MAILTO:emily@fcc-cl.org
END:VEVENT
END:VCALENDAR